BEGIN:VCALENDAR
VERSION:2.0
PRODID:-//eventon.com NONSGML v1.0//EN
CALSCALE:GREGORIAN
METHOD:PUBLISH
BEGIN:VEVENT
UID:69e730da099c5
DTSTAMP:20260421T081002Z
DTSTART:20250219T120000Z
DTEND:20260419T035000Z
LOCATION:Japan Inn Parking Lot at Weston Town Center 1798 Market St\,  Weston\,  FL 33326
SUMMARY:Wild Hogs Thursday Ride
DESCRIPTION:The group leaves from Japan Inn inside the Weston Town Center P
 laza(Close to the Bank of America)Pedals up at 7:30AM on Tuesday and Thursd
 ays Japan InnWeston Town Center1798 Market St\,  Weston\,  FL 33326https://
 goo.gl/maps/vgy4uAbH2vnNdxvu6 PEDALS UP 7:30AMNo-drop group 32 – 40mile t
 otal (can drop out at any loop point)Average speeds range[..]\nhttps://wild
 hogscycle.com/events/wild-hogs-thursday-ride/var/ri-7.l-L1
URL:https://wildhogscycle.com/events/wild-hogs-thursday-ride/var/ri-7.l-L1
END:VEVENT
END:VCALENDAR